BEGIN:VCALENDAR
VERSION:2.0
PRODID:DPCALENDAR
CALSCALE:GREGORIAN
BEGIN:VTIMEZONE
TZID:UTC
X-MICROSOFT-CDO-TZID:0
END:VTIMEZONE
X-WR-TIMEZONE:UTC
BEGIN:VEVENT
DTSTART;TZID=UTC:20181223T081500
DTEND;TZID=UTC:20181223T120000
UID:F59662CA-B74B-4833-A977-E94F050DF831
SUMMARY:RG-Training
DTSTAMP:20181228T163945Z
DESCRIPTION:
X-ALT-DESC;FMTTYPE=text/html:
X-ACCESS:1
X-HITS:0
X-URL:
X-COLOR:eb671a
X-SHOW-END-TIME:1
END:VEVENT
BEGIN:VEVENT
DTSTART;TZID=UTC:20181229T081500
DTEND;TZID=UTC:20181229T120000
UID:678D8066-03E2-4A4C-BD80-D5A747E69574
SUMMARY:RG-Training
DTSTAMP:20181228T163603Z
DESCRIPTION:
X-ALT-DESC;FMTTYPE=text/html:
LAST-MODIFIED:20181228T163841Z
X-ACCESS:1
X-HITS:5
X-URL:
X-COLOR:eb671a
X-SHOW-END-TIME:1
END:VEVENT
BEGIN:VEVENT
DTSTART;TZID=UTC:20181230T081500
DTEND;TZID=UTC:20181230T120000
UID:546ADBBA-864A-4511-B9A3-C6A676FED02A
SUMMARY:RG-Training
DTSTAMP:20181228T163708Z
DESCRIPTION:
X-ALT-DESC;FMTTYPE=text/html:
LAST-MODIFIED:20181228T163909Z
X-ACCESS:1
X-HITS:28
X-URL:
X-COLOR:eb671a
X-SHOW-END-TIME:1
END:VEVENT
BEGIN:VEVENT
DTSTART;TZID=UTC:20231227T081500
DTEND;TZID=UTC:20231227T120000
UID:A2C8769F-8343-450E-8010-0BF235EEADBB
SUMMARY:freiwilliges Stangentraining mit RG
DTSTAMP:20231128T225213Z
DESCRIPTION:
X-ALT-DESC;FMTTYPE=text/html:
X-ACCESS:1
X-HITS:61
X-URL:
X-COLOR:eb671a
X-SHOW-END-TIME:1
END:VEVENT
BEGIN:VEVENT
DTSTART;TZID=UTC:20240110T130000
DTEND;TZID=UTC:20240110T160000
UID:EF5F0FFD-1FDE-4835-B08E-A3AA5A7FCC44
SUMMARY:freiwilliges Stangentraining mit RG
DTSTAMP:20231128T225538Z
DESCRIPTION:
X-ALT-DESC;FMTTYPE=text/html:
X-ACCESS:1
X-HITS:73
X-URL:
X-COLOR:eb671a
X-SHOW-END-TIME:1
END:VEVENT
BEGIN:VEVENT
DTSTART;TZID=UTC:20240117T130000
DTEND;TZID=UTC:20240117T160000
UID:1E2E467B-7329-4B90-BC80-C8F0335DE127
SUMMARY:freiwilliges Stangentraining mit RG
DTSTAMP:20231128T225627Z
DESCRIPTION:
X-ALT-DESC;FMTTYPE=text/html:
X-ACCESS:1
X-HITS:152
X-URL:
X-COLOR:eb671a
X-SHOW-END-TIME:1
END:VEVENT
BEGIN:VEVENT
DTSTART;TZID=UTC:20240124T130000
DTEND;TZID=UTC:20240124T160000
UID:FD0D5B49-6388-4C06-B39A-C84A3315A4D8
SUMMARY:freiwilliges Stangentraining mit RG
DTSTAMP:20231128T225751Z
DESCRIPTION:
X-ALT-DESC;FMTTYPE=text/html:
X-ACCESS:1
X-HITS:40
X-URL:
X-COLOR:eb671a
X-SHOW-END-TIME:1
END:VEVENT
BEGIN:VEVENT
DTSTART;TZID=UTC:20240131T130000
DTEND;TZID=UTC:20240131T160000
UID:CD2A1638-BC77-4CFD-82CE-BFEF5605E873
SUMMARY:freiwilliges Stangentraining mit RG
DTSTAMP:20231128T225843Z
DESCRIPTION:
X-ALT-DESC;FMTTYPE=text/html:
X-ACCESS:1
X-HITS:52
X-URL:
X-COLOR:eb671a
X-SHOW-END-TIME:1
END:VEVENT
BEGIN:VEVENT
DTSTART;TZID=UTC:20240207T130000
DTEND;TZID=UTC:20240207T160000
UID:EEC5D7A0-CA7E-48C9-B6A2-124BCBB606D7
SUMMARY:freiwilliges Stangentraining mit RG
DTSTAMP:20231128T230047Z
DESCRIPTION:
X-ALT-DESC;FMTTYPE=text/html:
X-ACCESS:1
X-HITS:58
X-URL:
X-COLOR:eb671a
X-SHOW-END-TIME:1
END:VEVENT
BEGIN:VEVENT
DTSTART;TZID=UTC:20240214T130000
DTEND;TZID=UTC:20240214T160000
UID:024FB946-DC88-43BF-BFD1-1DB98E5F9436
SUMMARY:freiwilliges Stangentraining mit RG
DTSTAMP:20231128T230142Z
DESCRIPTION:
X-ALT-DESC;FMTTYPE=text/html:
X-ACCESS:1
X-HITS:85
X-URL:
X-COLOR:eb671a
X-SHOW-END-TIME:1
END:VEVENT
BEGIN:VEVENT
DTSTART;TZID=UTC:20240221T130000
DTEND;TZID=UTC:20240221T160000
UID:6D70FF34-EFFF-492F-9A21-926A05D55C29
SUMMARY:freiwilliges Stangentraining mit RG
DTSTAMP:20231128T230238Z
DESCRIPTION:
X-ALT-DESC;FMTTYPE=text/html:
LAST-MODIFIED:20231128T231409Z
X-ACCESS:1
X-HITS:79
X-URL:
X-COLOR:eb671a
X-SHOW-END-TIME:1
END:VEVENT
BEGIN:VEVENT
DTSTART;TZID=UTC:20240228T090000
DTEND;TZID=UTC:20240228T120000
UID:9357C935-AE5D-4E51-B7E0-985B0CBDA8F1
SUMMARY:freiwillges Stangentraining mit RG
DTSTAMP:20231128T230459Z
DESCRIPTION:
X-ALT-DESC;FMTTYPE=text/html:
X-ACCESS:1
X-HITS:59
X-URL:
X-COLOR:eb671a
X-SHOW-END-TIME:1
END:VEVENT
BEGIN:VEVENT
DTSTART;TZID=UTC:20240306T130000
DTEND;TZID=UTC:20240306T160000
UID:2BECE6E7-F2A0-4BC6-9257-55245642A5C3
SUMMARY:freiwilliges Stangentraining mit RG
DTSTAMP:20231128T230704Z
DESCRIPTION:
X-ALT-DESC;FMTTYPE=text/html:
X-ACCESS:1
X-HITS:54
X-URL:
X-COLOR:eb671a
X-SHOW-END-TIME:1
END:VEVENT
BEGIN:VEVENT
DTSTART;TZID=UTC:20240313T130000
DTEND;TZID=UTC:20240313T160000
UID:5E729F79-0398-4B22-AF9A-C0B3512AC095
SUMMARY:freiwilliges Stangentraining mit RG
DTSTAMP:20231128T230844Z
DESCRIPTION:
X-ALT-DESC;FMTTYPE=text/html:
X-ACCESS:1
X-HITS:79
X-URL:
X-COLOR:eb671a
X-SHOW-END-TIME:1
END:VEVENT
BEGIN:VEVENT
DTSTART;TZID=UTC:20240320T130000
DTEND;TZID=UTC:20240320T160000
UID:16BA2C4F-1ADA-4D97-9046-6EC97DB1E4F6
SUMMARY:freiwilliges Stangentraining mit RG
DTSTAMP:20231128T230939Z
DESCRIPTION:
X-ALT-DESC;FMTTYPE=text/html:
X-ACCESS:1
X-HITS:61
X-URL:
X-COLOR:eb671a
X-SHOW-END-TIME:1
END:VEVENT
BEGIN:VEVENT
DTSTART;TZID=UTC:20240327T130000
DTEND;TZID=UTC:20240327T160000
UID:771E290B-431F-425B-B9E3-371F6D3A86E1
SUMMARY:freiwilliges Stangentraining
DTSTAMP:20231128T231028Z
DESCRIPTION:
X-ALT-DESC;FMTTYPE=text/html:
X-ACCESS:1
X-HITS:61
X-URL:
X-COLOR:eb671a
X-SHOW-END-TIME:1
END:VEVENT
END:VCALENDAR