BEGIN:VCALENDAR
VERSION:2.0
PRODID:DPCALENDAR
CALSCALE:GREGORIAN
BEGIN:VTIMEZONE
TZID:UTC
X-MICROSOFT-CDO-TZID:0
END:VTIMEZONE
X-WR-TIMEZONE:UTC
BEGIN:VEVENT
DTSTART;TZID=UTC:20181102T200000
DTEND;TZID=UTC:20181102T223000
UID:85AEB1DD-8971-46CC-89E8-17100E00BE11
SUMMARY:Generalversammlung
DTSTAMP:20181205T201042Z
DESCRIPTION:
X-ALT-DESC;FMTTYPE=text/html:
X-ACCESS:1
X-HITS:0
X-URL:
X-COLOR:aa0114
X-SHOW-END-TIME:1
END:VEVENT
BEGIN:VEVENT
DTSTART;VALUE=DATE:20181117
DTEND;VALUE=DATE:20181119
UID:8AA61BB4-A799-4D7F-8B03-8D8B2F9B6901
SUMMARY:Gletscherskifahren in Sölden
DTSTAMP:20181205T200827Z
DESCRIPTION:
X-ALT-DESC;FMTTYPE=text/html:
X-ACCESS:1
X-HITS:0
X-URL:
X-COLOR:aa0114
X-SHOW-END-TIME:1
END:VEVENT
BEGIN:VEVENT
DTSTART;VALUE=DATE:20181217
DTEND;VALUE=DATE:20181218
UID:AE7246A4-9701-4037-B8AA-0280A25718AA
SUMMARY:FIS-Ski-Cross Weltcup Arosa
DTSTAMP:20181210T192850Z
DESCRIPTION:
X-ALT-DESC;FMTTYPE=text/html:
X-ACCESS:1
X-HITS:3
X-URL:
X-COLOR:aa0114
X-SHOW-END-TIME:1
END:VEVENT
BEGIN:VEVENT
DTSTART;VALUE=DATE:20190112
DTEND;VALUE=DATE:20190113
UID:9A4ED92F-BEDC-46EF-B03B-CD852DD54338
SUMMARY:Regio-Cup Grüsch-Danusa
DTSTAMP:20181205T201117Z
DESCRIPTION:
X-ALT-DESC;FMTTYPE=text/html:
LAST-MODIFIED:20181205T201200Z
X-ACCESS:1
X-HITS:128
X-URL:
X-COLOR:aa0114
X-SHOW-END-TIME:1
END:VEVENT
BEGIN:VEVENT
DTSTART;VALUE=DATE:20190113
DTEND;VALUE=DATE:20190114
UID:22CAE691-B8D0-4FAA-AA40-2820297DBA1E
SUMMARY:Kids-Cup - Grüsch-Danusa
DTSTAMP:20181205T201150Z
DESCRIPTION:
X-ALT-DESC;FMTTYPE=text/html:
LAST-MODIFIED:20190913T230224Z
X-ACCESS:1
X-HITS:183
X-URL:
X-COLOR:aa0114
X-SHOW-END-TIME:0
END:VEVENT
BEGIN:VEVENT
DTSTART;VALUE=DATE:20190215
DTEND;VALUE=DATE:20190216
UID:D7196AC0-BC82-447E-8919-07259BD8465C
SUMMARY:Skinacht Danusa (Nachtskifahren)
DTSTAMP:20181205T201235Z
DESCRIPTION:
X-ALT-DESC;FMTTYPE=text/html:
X-ACCESS:1
X-HITS:135
X-URL:
X-COLOR:aa0114
X-SHOW-END-TIME:1
END:VEVENT
BEGIN:VEVENT
DTSTART;VALUE=DATE:20190302
DTEND;VALUE=DATE:20190303
UID:2A65B284-81FE-48D0-9AA4-0FF1FFC857FA
SUMMARY:Gemeindeskirennen Grüsch
DTSTAMP:20181205T201300Z
DESCRIPTION:
X-ALT-DESC;FMTTYPE=text/html:
X-ACCESS:1
X-HITS:372
X-URL:
X-COLOR:aa0114
X-SHOW-END-TIME:1
END:VEVENT
BEGIN:VEVENT
DTSTART;VALUE=DATE:20190309
DTEND;VALUE=DATE:20190310
UID:18DFFFA9-703E-44BD-AA1C-2D1599508C1A
SUMMARY:Clubrennen Grüsch-Danusa
DTSTAMP:20181205T201326Z
DESCRIPTION:
X-ALT-DESC;FMTTYPE=text/html:
X-ACCESS:1
X-HITS:220
X-URL:
X-COLOR:aa0114
X-SHOW-END-TIME:1
END:VEVENT
BEGIN:VEVENT
DTSTART;VALUE=DATE:20190818
DTEND;VALUE=DATE:20190819
UID:1EC81CFA-54DE-4836-BFEF-2B3A0AD55287
SUMMARY:Bike-Plausch, Schiers
DTSTAMP:20181205T202844Z
DESCRIPTION:
X-ALT-DESC;FMTTYPE=text/html:
X-ACCESS:1
X-HITS:460
X-URL:
X-COLOR:aa0114
X-SHOW-END-TIME:1
END:VEVENT
BEGIN:VEVENT
DTSTART;VALUE=DATE:20200118
DTEND;VALUE=DATE:20200119
UID:55B01E57-98F9-4FC3-B295-ECA7FBAD719B
SUMMARY:12 h Rennen Pany
DTSTAMP:20190913T231509Z
DESCRIPTION:
X-ALT-DESC;FMTTYPE=text/html:
X-ACCESS:1
X-HITS:425
X-URL:
X-COLOR:aa0114
X-SHOW-END-TIME:0
END:VEVENT
BEGIN:VEVENT
DTSTART;VALUE=DATE:20200208
DTEND;VALUE=DATE:20200209
UID:A9706318-35EE-4E6C-9397-EAF47A806366
SUMMARY:Vollmondskinacht Danusa
DTSTAMP:20191216T223627Z
DESCRIPTION:
X-ALT-DESC;FMTTYPE=text/html:
X-ACCESS:1
X-HITS:140
X-URL:
X-COLOR:aa0114
X-SHOW-END-TIME:0
END:VEVENT
BEGIN:VEVENT
DTSTART;VALUE=DATE:20201215
DTEND;VALUE=DATE:20201216
UID:6D29DF4E-7C1A-4B26-A398-386C71A2B969
SUMMARY:FIS-Ski-Cross Weltcup Arosa am TV
DTSTAMP:20201028T221323Z
DESCRIPTION:
X-ALT-DESC;FMTTYPE=text/html:
LAST-MODIFIED:20201207T204559Z
X-ACCESS:1
X-HITS:95
X-URL:
X-COLOR:aa0114
X-SHOW-END-TIME:1
END:VEVENT
BEGIN:VEVENT
DTSTART;VALUE=DATE:20201216
DTEND;VALUE=DATE:20201217
UID:D8EC1BA2-3559-4E94-B4BD-687D3C64BB63
SUMMARY:FIS-Ski-Cross Weltcup Arosa am TV
DTSTAMP:20201207T204721Z
DESCRIPTION:
X-ALT-DESC;FMTTYPE=text/html:
X-ACCESS:1
X-HITS:87
X-URL:
X-COLOR:aa0114
X-SHOW-END-TIME:1
END:VEVENT
BEGIN:VEVENT
DTSTART;VALUE=DATE:20210116
DTEND;VALUE=DATE:20210117
UID:CF1C8791-BECF-4D0C-A05F-D819FE3F7B0D
SUMMARY:12 Stunden Rennen Pany
DTSTAMP:20201028T221139Z
DESCRIPTION:
X-ALT-DESC;FMTTYPE=text/html:
X-ACCESS:1
X-HITS:204
X-URL:
X-COLOR:aa0114
X-SHOW-END-TIME:1
END:VEVENT
BEGIN:VEVENT
DTSTART;VALUE=DATE:20210130
DTEND;VALUE=DATE:20210131
UID:9033195F-C30C-477A-86A8-25550E9AB631
SUMMARY:Skinacht Danusa abgesagt
DTSTAMP:20201028T221232Z
DESCRIPTION:
X-ALT-DESC;FMTTYPE=text/html:
LAST-MODIFIED:20210124T212932Z
X-ACCESS:1
X-HITS:266
X-URL:
X-COLOR:aa0114
X-SHOW-END-TIME:1
END:VEVENT
BEGIN:VEVENT
DTSTART;VALUE=DATE:20210306
DTEND;VALUE=DATE:20210307
UID:F2E1E84A-FFD2-4194-B516-E5C5586ED911
SUMMARY:Gemeindeskirennen Grüsch abgesagt
DTSTAMP:20201028T221025Z
DESCRIPTION:
X-ALT-DESC;FMTTYPE=text/html:
LAST-MODIFIED:20210226T193826Z
X-ACCESS:1
X-HITS:172
X-URL:
X-COLOR:aa0114
X-SHOW-END-TIME:1
END:VEVENT
BEGIN:VEVENT
DTSTART;VALUE=DATE:20210313
DTEND;VALUE=DATE:20210314
UID:557E3593-D6D2-410D-95DF-BBD60D22573D
SUMMARY:Clubrennen Grüsch Danusa abgesagt
DTSTAMP:20201028T221100Z
DESCRIPTION:
X-ALT-DESC;FMTTYPE=text/html:
LAST-MODIFIED:20210226T193959Z
X-ACCESS:1
X-HITS:184
X-URL:
X-COLOR:aa0114
X-SHOW-END-TIME:1
END:VEVENT
BEGIN:VEVENT
DTSTART;VALUE=DATE:20210919
DTEND;VALUE=DATE:20210920
UID:24008124-09C9-40ED-816B-0285666403DE
SUMMARY:Jubiläums Anlass gemütlicher Hock auf der Matta, Furna
DTSTAMP:20210831T195606Z
DESCRIPTION:
X-ALT-DESC;FMTTYPE=text/html:
X-ACCESS:1
X-HITS:427
X-URL:
X-COLOR:aa0114
X-SHOW-END-TIME:1
END:VEVENT
BEGIN:VEVENT
DTSTART;VALUE=DATE:20211106
DTEND;VALUE=DATE:20211107
UID:F4246568-0006-4489-858E-1449E940B236
SUMMARY:Gletscherskifahren Sölden
DTSTAMP:20210831T195843Z
DESCRIPTION:
X-ALT-DESC;FMTTYPE=text/html:
X-ACCESS:1
X-HITS:879
X-URL:
X-COLOR:aa0114
X-SHOW-END-TIME:1
END:VEVENT
BEGIN:VEVENT
DTSTART;VALUE=DATE:20211107
DTEND;VALUE=DATE:20211108
UID:04F29BC9-BA0E-457B-91B8-FB51093AB5D0
SUMMARY:Gletscherskifahren Sölden
DTSTAMP:20210831T195914Z
DESCRIPTION:
X-ALT-DESC;FMTTYPE=text/html:
X-ACCESS:1
X-HITS:668
X-URL:
X-COLOR:aa0114
X-SHOW-END-TIME:1
END:VEVENT
BEGIN:VEVENT
DTSTART;TZID=UTC:20211119T193000
DTEND;TZID=UTC:20211119T233000
UID:16526486-F5AC-44C0-BD43-A4C0AC89803A
SUMMARY:Generalversammlung
DTSTAMP:20210831T195759Z
DESCRIPTION:
X-ALT-DESC;FMTTYPE=text/html:
LAST-MODIFIED:20210831T195932Z
X-ACCESS:1
X-HITS:940
X-URL:
X-COLOR:aa0114
X-SHOW-END-TIME:0
END:VEVENT
BEGIN:VEVENT
DTSTART;TZID=UTC:20211214T170000
DTEND;TZID=UTC:20211214T230000
UID:5BD938ED-DE03-47E6-85FA-63E30A90C6EA
SUMMARY:Besuch Audi FIS Ski Cross Wold Cup Arosa - HOOP JOOS
DTSTAMP:20211206T215816Z
DESCRIPTION:
X-ALT-DESC;FMTTYPE=text/html:
LAST-MODIFIED:20211206T215952Z
X-ACCESS:1
X-HITS:61
X-URL:
X-COLOR:aa0114
X-SHOW-END-TIME:1
END:VEVENT
BEGIN:VEVENT
DTSTART;VALUE=DATE:20220115
DTEND;VALUE=DATE:20220116
UID:60367BBE-45BC-4DF0-9EF6-49585897896A
SUMMARY:12h Rennen Pany
DTSTAMP:20211020T141137Z
DESCRIPTION:
X-ALT-DESC;FMTTYPE=text/html:
LAST-MODIFIED:20211206T221645Z
X-ACCESS:1
X-HITS:372
X-URL:
X-COLOR:aa0114
X-SHOW-END-TIME:1
END:VEVENT
BEGIN:VEVENT
DTSTART;VALUE=DATE:20220115
DTEND;VALUE=DATE:20220116
UID:63387864-DDC6-4D99-BB32-C032CC4E6A88
SUMMARY:Skinacht Danusa Oldies-Night
DTSTAMP:20211206T221448Z
DESCRIPTION:
X-ALT-DESC;FMTTYPE=text/html:
X-ACCESS:1
X-HITS:230
X-URL:
X-COLOR:aa0114
X-SHOW-END-TIME:1
END:VEVENT
BEGIN:VEVENT
DTSTART;VALUE=DATE:20220226
DTEND;VALUE=DATE:20220227
UID:0044009B-DAE2-41CE-ACCD-35596BC99F01
SUMMARY:Gemeindeskirennen
DTSTAMP:20220203T191723Z
DESCRIPTION:
X-ALT-DESC;FMTTYPE=text/html:
X-ACCESS:1
X-HITS:198
X-URL:
X-COLOR:aa0114
X-SHOW-END-TIME:1
END:VEVENT
BEGIN:VEVENT
DTSTART;VALUE=DATE:20220312
DTEND;VALUE=DATE:20220313
UID:926F6258-1CF5-4A8B-903B-580F5EFBBF00
SUMMARY:Skiclubrennen der anderen Art
DTSTAMP:20220203T192019Z
DESCRIPTION:
X-ALT-DESC;FMTTYPE=text/html:
LAST-MODIFIED:20220220T145615Z
X-ACCESS:1
X-HITS:263
X-URL:
X-COLOR:aa0114
X-SHOW-END-TIME:1
END:VEVENT
BEGIN:VEVENT
DTSTART;TZID=UTC:20221104T180000
DTEND;TZID=UTC:20221104T233000
UID:990C0E57-D9DF-4E67-9E45-1C1D3EC0DBF2
SUMMARY:Dorfvolleyball-Turnier
DTSTAMP:20221030T195450Z
DESCRIPTION:
X-ALT-DESC;FMTTYPE=text/html:
X-ACCESS:1
X-HITS:38
X-URL:
X-COLOR:aa0114
X-SHOW-END-TIME:1
END:VEVENT
BEGIN:VEVENT
DTSTART;VALUE=DATE:20221212
DTEND;VALUE=DATE:20221213
UID:EA4EE392-E7CD-44FA-970B-2F6530204048
SUMMARY:FIS-Ski-Cross Weltcup Arosa
DTSTAMP:20221030T195926Z
DESCRIPTION:
X-ALT-DESC;FMTTYPE=text/html:
LAST-MODIFIED:20221030T200144Z
X-ACCESS:1
X-HITS:166
X-URL:
X-COLOR:aa0114
X-SHOW-END-TIME:1
END:VEVENT
BEGIN:VEVENT
DTSTART;VALUE=DATE:20230204
DTEND;VALUE=DATE:20230205
UID:5ED23686-9B36-4989-85B9-2662AF4137D0
SUMMARY:Vollmond-Skinacht auf Danusa
DTSTAMP:20221030T200050Z
DESCRIPTION:
X-ALT-DESC;FMTTYPE=text/html:
LAST-MODIFIED:20221030T200116Z
X-ACCESS:1
X-HITS:209
X-URL:
X-COLOR:aa0114
X-SHOW-END-TIME:0
END:VEVENT
BEGIN:VEVENT
DTSTART;VALUE=DATE:20230226
DTEND;VALUE=DATE:20230227
UID:EF35AFB7-C4B5-4575-AA95-323CFDA19C34
SUMMARY:BSV Raiffeisen Cup GS
DTSTAMP:20221030T200623Z
DESCRIPTION:
X-ALT-DESC;FMTTYPE=text/html:
X-ACCESS:1
X-HITS:101
X-URL:
X-COLOR:aa0114
X-SHOW-END-TIME:1
END:VEVENT
BEGIN:VEVENT
DTSTART;VALUE=DATE:20230304
DTEND;VALUE=DATE:20230305
UID:DDF9B395-3AD1-4E0F-BD16-BE44EF49F053
SUMMARY:Gemeindeskirennen abgesagt
DTSTAMP:20221030T200239Z
DESCRIPTION:
X-ALT-DESC;FMTTYPE=text/html:
LAST-MODIFIED:20230228T203959Z
X-ACCESS:1
X-HITS:110
X-URL:
X-COLOR:aa0114
X-SHOW-END-TIME:1
END:VEVENT
BEGIN:VEVENT
DTSTART;VALUE=DATE:20230311
DTEND;VALUE=DATE:20230312
UID:DCCAB9BA-80A2-410B-93F5-73036A2D9FBF
SUMMARY:Clubrennen
DTSTAMP:20221030T200302Z
DESCRIPTION:
X-ALT-DESC;FMTTYPE=text/html:
X-ACCESS:1
X-HITS:122
X-URL:
X-COLOR:aa0114
X-SHOW-END-TIME:1
END:VEVENT
BEGIN:VEVENT
DTSTART;TZID=UTC:20231103T200000
DTEND;TZID=UTC:20231103T210000
UID:1D4181DD-AEB4-4AF9-AB3A-4BF612725400
SUMMARY:Generalversammlung
DTSTAMP:20230913T140145Z
DESCRIPTION:
X-ALT-DESC;FMTTYPE=text/html:
LAST-MODIFIED:20230913T140305Z
X-ACCESS:1
X-HITS:118
X-URL:
X-COLOR:aa0114
X-SHOW-END-TIME:0
END:VEVENT
BEGIN:VEVENT
DTSTART;TZID=UTC:20240224T190000
DTEND;TZID=UTC:20240224T200000
UID:43CCAFD0-0B2E-423C-925B-62446B8264F7
SUMMARY:Vollmond Skinacht
DTSTAMP:20240208T002258Z
DESCRIPTION:
X-ALT-DESC;FMTTYPE=text/html:
LAST-MODIFIED:20240208T002355Z
X-ACCESS:1
X-HITS:72
X-URL:
X-COLOR:aa0114
X-SHOW-END-TIME:0
END:VEVENT
BEGIN:VEVENT
DTSTART;TZID=UTC:20240302T000000
DTEND;TZID=UTC:20240302T000000
UID:090F1B16-1AE6-43FF-B5CA-6A07F3A3C175
SUMMARY:Gemeindeskirennen Grüsch
DTSTAMP:20181205T201300Z
DESCRIPTION:
X-ALT-DESC;FMTTYPE=text/html:
LAST-MODIFIED:20231128T230631Z
X-ACCESS:1
X-HITS:154
X-URL:
X-COLOR:aa0114
X-SHOW-END-TIME:0
END:VEVENT
BEGIN:VEVENT
DTSTART;TZID=UTC:20240309T000000
DTEND;TZID=UTC:20240309T000000
UID:5D9B09E6-FADD-4271-B88D-7A577FAD88CE
SUMMARY:Clubrennen Grüsch-Danusa
DTSTAMP:20181205T201326Z
DESCRIPTION:
X-ALT-DESC;FMTTYPE=text/html:
X-ACCESS:1
X-HITS:66
X-URL:
X-COLOR:aa0114
X-SHOW-END-TIME:0
END:VEVENT
BEGIN:VEVENT
DTSTART;VALUE=DATE:20241026
DTEND;VALUE=DATE:20241028
UID:76757F49-3753-4961-8084-735294D96202
SUMMARY:Besuch Weltcup Saisonauftakt in Sölden
DTSTAMP:20241012T122159Z
DESCRIPTION:
X-ALT-DESC;FMTTYPE=text/html:
LAST-MODIFIED:20241012T122240Z
X-ACCESS:1
X-HITS:61
X-URL:
X-COLOR:aa0114
X-SHOW-END-TIME:0
END:VEVENT
BEGIN:VEVENT
DTSTART;TZID=UTC:20241108T200000
DTEND;TZID=UTC:20241108T210000
UID:7720FF09-E592-42C0-8560-6CB50A09671E
SUMMARY:Generalversammlung Lounge BB Grüsch-Danusa
DTSTAMP:20241012T122113Z
DESCRIPTION:
X-ALT-DESC;FMTTYPE=text/html:
LAST-MODIFIED:20241012T124016Z
X-ACCESS:1
X-HITS:92
X-URL:
X-COLOR:aa0114
X-SHOW-END-TIME:0
END:VEVENT
BEGIN:VEVENT
DTSTART;VALUE=DATE:20250215
DTEND;VALUE=DATE:20250216
UID:B7710009-B969-49BD-B617-EF06CCFCB466
SUMMARY:Clubrennen
DTSTAMP:20241012T123603Z
DESCRIPTION:
X-ALT-DESC;FMTTYPE=text/html:
LAST-MODIFIED:20241012T123615Z
X-ACCESS:1
X-HITS:153
X-URL:
X-COLOR:aa0114
X-SHOW-END-TIME:0
END:VEVENT
BEGIN:VEVENT
DTSTART;VALUE=DATE:20250301
DTEND;VALUE=DATE:20250302
UID:A51447BE-715F-4A4C-B76B-F6BF94C5A6B3
SUMMARY:Gemeindeskirennen
DTSTAMP:20241012T123021Z
DESCRIPTION:
X-ALT-DESC;FMTTYPE=text/html:
LAST-MODIFIED:20241012T123043Z
X-ACCESS:1
X-HITS:136
X-URL:
X-COLOR:aa0114
X-SHOW-END-TIME:0
END:VEVENT
BEGIN:VEVENT
DTSTART;TZID=UTC:20251107T200000
DTEND;TZID=UTC:20251107T210000
UID:332E3589-40FE-4A12-A5A2-76679D0C2A23
SUMMARY:Generalversammlung
DTSTAMP:20241012T123724Z
DESCRIPTION:
X-ALT-DESC;FMTTYPE=text/html:
LAST-MODIFIED:20241012T123751Z
X-ACCESS:1
X-HITS:286
X-URL:
X-COLOR:aa0114
X-SHOW-END-TIME:0
END:VEVENT
BEGIN:VEVENT
DTSTART;TZID=UTC:20260206T180000
DTEND;TZID=UTC:20260206T190000
UID:9AA75274-A8BC-4F2B-ADF6-36D1BDA83DC3
SUMMARY:Fondue-Plausch FuXlounge
DTSTAMP:20251111T140328Z
DESCRIPTION:
X-ALT-DESC;FMTTYPE=text/html:
X-ACCESS:1
X-HITS:39
X-URL:
X-COLOR:aa0114
X-SHOW-END-TIME:0
END:VEVENT
BEGIN:VEVENT
DTSTART;VALUE=DATE:20260228
DTEND;VALUE=DATE:20260301
UID:E59B2617-D4F4-46C4-9F65-2472FAA55506
SUMMARY:Gemeindeskirennen Grüsch-Danusa GS
DTSTAMP:20251111T140126Z
DESCRIPTION:
X-ALT-DESC;FMTTYPE=text/html:
X-ACCESS:1
X-HITS:106
X-URL:
X-COLOR:aa0114
X-SHOW-END-TIME:1
END:VEVENT
BEGIN:VEVENT
DTSTART;VALUE=DATE:20260307
DTEND;VALUE=DATE:20260308
UID:25AADE76-9ED6-4AF3-90DF-A3F1774D7B75
SUMMARY:Skiclubrennen Grüsch-Danusa GS mit Clubabend
DTSTAMP:20251111T140429Z
DESCRIPTION:
X-ALT-DESC;FMTTYPE=text/html:
LAST-MODIFIED:20251111T140455Z
X-ACCESS:1
X-HITS:531
X-URL:
X-COLOR:aa0114
X-SHOW-END-TIME:1
END:VEVENT
BEGIN:VEVENT
DTSTART;TZID=UTC:20260326T200000
DTEND;TZID=UTC:20260326T210000
UID:85C4F48A-5243-4732-9C9B-CFA70BE54AF0
SUMMARY:RUDH-Vorführung
DTSTAMP:20251111T140753Z
DESCRIPTION:
X-ALT-DESC;FMTTYPE=text/html:
X-ACCESS:1
X-HITS:68
X-URL:
X-COLOR:aa0114
X-SHOW-END-TIME:0
END:VEVENT
END:VCALENDAR